BEGIN:VCALENDAR
VERSION:2.0
PRODID:-//SYLF - ECPv6.15.20//NONSGML v1.0//EN
CALSCALE:GREGORIAN
METHOD:PUBLISH
X-WR-CALNAME:SYLF
X-ORIGINAL-URL:https://ensemble-sylf.fr
X-WR-CALDESC:Évènements pour SYLF
REFRESH-INTERVAL;VALUE=DURATION:PT1H
X-Robots-Tag:noindex
X-PUBLISHED-TTL:PT1H
BEGIN:VTIMEZONE
TZID:Europe/Paris
BEGIN:DAYLIGHT
TZOFFSETFROM:+0100
TZOFFSETTO:+0200
TZNAME:CEST
DTSTART:20240331T010000
END:DAYLIGHT
BEGIN:STANDARD
TZOFFSETFROM:+0200
TZOFFSETTO:+0100
TZNAME:CET
DTSTART:20241027T010000
END:STANDARD
BEGIN:DAYLIGHT
TZOFFSETFROM:+0100
TZOFFSETTO:+0200
TZNAME:CEST
DTSTART:20250330T010000
END:DAYLIGHT
BEGIN:STANDARD
TZOFFSETFROM:+0200
TZOFFSETTO:+0100
TZNAME:CET
DTSTART:20251026T010000
END:STANDARD
BEGIN:DAYLIGHT
TZOFFSETFROM:+0100
TZOFFSETTO:+0200
TZNAME:CEST
DTSTART:20260329T010000
END:DAYLIGHT
BEGIN:STANDARD
TZOFFSETFROM:+0200
TZOFFSETTO:+0100
TZNAME:CET
DTSTART:20261025T010000
END:STANDARD
END:VTIMEZONE
BEGIN:VEVENT
DTSTART;TZID=Europe/Paris:20250629T180000
DTEND;TZID=Europe/Paris:20250629T200000
DTSTAMP:20260425T231322
CREATED:20250514T090630Z
LAST-MODIFIED:20250514T090630Z
UID:10000253-1751220000-1751227200@ensemble-sylf.fr
SUMMARY:De Naples à Vienne: les chemins du classicisme
DESCRIPTION:Musique sacrée de Galuppi\, Haydn\,Hasse\,Jomelli\,Leopold Mozart. \nAvec le chœur Le diapason de Lyon. \nDirection: Vincent De Meester.
URL:https://ensemble-sylf.fr/sylf-event/de-naples-a-vienne-les-chemins-du-classicisme-2/
LOCATION:Abbaye d’Ainay\, Lyon\, France
CATEGORIES:Concert
END:VEVENT
BEGIN:VEVENT
DTSTART;TZID=Europe/Paris:20250630T080000
DTEND;TZID=Europe/Paris:20250704T170000
DTSTAMP:20260425T231322
CREATED:20250514T091145Z
LAST-MODIFIED:20250514T091145Z
UID:10000254-1751270400-1751648400@ensemble-sylf.fr
SUMMARY:Résidence "Traversée"
DESCRIPTION:Résidence de travail en vue de notre prochain création « Traversée ». \nAvec Amélie Zekri\, Isabelle Voizeux\, Géraldine Berger\, Gilles Chabrier\, Bertrand Saugier.
URL:https://ensemble-sylf.fr/sylf-event/residence-traversee-2/
LOCATION:La Trame St Jean-Bonnefonds
CATEGORIES:Résidence
ATTACH;FMTTYPE=image/jpeg:https://ensemble-sylf.fr/wp-content/uploads/2025/05/Traversee-scaled.jpg
END:VEVENT
BEGIN:VEVENT
DTSTART;TZID=Europe/Paris:20250705T113000
DTEND;TZID=Europe/Paris:20250705T223000
DTSTAMP:20260425T231322
CREATED:20250514T092329Z
LAST-MODIFIED:20250819T061743Z
UID:10000256-1751715000-1751754600@ensemble-sylf.fr
SUMMARY:La belle journée du château du Rousset
DESCRIPTION:Journée d’ateliers\, de découvertes et de concert à partager en famille au château du Rousset. \nRéservations\nEvènement soutenu par la Région Auvergne-Rhône-Alpes.
URL:https://ensemble-sylf.fr/sylf-event/la-belle-journee-du-chateau-du-rousset/
LOCATION:Château du Rousset
CATEGORIES:Ateliers,Concert,Concerts aux chandelles
ATTACH;FMTTYPE=image/jpeg:https://ensemble-sylf.fr/wp-content/uploads/2025/05/SyLF-Affiche-2025-scaled.jpg
END:VEVENT
BEGIN:VEVENT
DTSTART;TZID=Europe/Paris:20250712T213000
DTEND;TZID=Europe/Paris:20250712T223000
DTSTAMP:20260425T231322
CREATED:20250610T073020Z
LAST-MODIFIED:20250610T073020Z
UID:10000257-1752355800-1752359400@ensemble-sylf.fr
SUMMARY:FESTIVAL D'AVIGNON
DESCRIPTION:« HORA\,de Versailles aux Balkans » \nBilletterie: https://www.fevis.com/interferences/?fbclid=IwY2xjawK0vg1leHRuA2FlbQIxMABicmlkETFCWGhwVU5hcWM0dUdmVUZRAR7qDAGTjHOwrdeNd_t3P3K1U0t1ImScsGPnugLHyPWJDTG9A0iNZxjSe4OR-Q_aem_u5BVR-0aoRW2ZvwL-zLg9Q
URL:https://ensemble-sylf.fr/sylf-event/festival-davignon/
LOCATION:Festival d’Avignon
ATTACH;FMTTYPE=image/jpeg:https://ensemble-sylf.fr/wp-content/uploads/2025/06/504968819_1183283180508369_3063211569120846323_n.jpg
END:VEVENT
BEGIN:VEVENT
DTSTART;TZID=Europe/Paris:20250815T210000
DTEND;TZID=Europe/Paris:20250815T223000
DTSTAMP:20260425T231322
CREATED:20250808T134558Z
LAST-MODIFIED:20250808T134558Z
UID:10000258-1755291600-1755297000@ensemble-sylf.fr
SUMMARY:CONCERT QUIZ-CINEMA
DESCRIPTION:Concert gratuit. \nCe concert en forme de quizz musical se déroule dans un esprit festif\, au service de la musique et du plaisir de tous. Au début du concert\, chaque auditeur reçoit un programme avec des affiches de cinéma. À l’écoute des premières notes\, il est invité à reconnaitre à quel film correspond la musique. Et comme dirait le compositeur Vladimir Cosma\, « la bonne musique de film\, c’est la bonne musique tout court\, celle qui doit pouvoir s’écouter sans images ». \nParvis du château de Blou à Thueyts.(07)
URL:https://ensemble-sylf.fr/sylf-event/concert-quiz-cinema/
LOCATION:Thueyts
CATEGORIES:Concert
ATTACH;FMTTYPE=image/jpeg:https://ensemble-sylf.fr/wp-content/uploads/2025/08/528048620_1415914817201790_4555626748662288567_n.jpg
END:VEVENT
BEGIN:VEVENT
DTSTART;TZID=Europe/Paris:20251011T190000
DTEND;TZID=Europe/Paris:20251011T200000
DTSTAMP:20260425T231322
CREATED:20250903T073446Z
LAST-MODIFIED:20250903T073446Z
UID:10000259-1760209200-1760212800@ensemble-sylf.fr
SUMMARY:FETE DU LIVRE
DESCRIPTION:Sous un cabaret littéraire\, romans\, essais\, bandes dessinées\, livres jeunesse sont transposés à la scène par des compagnies de théâtre et de danse\, en présence des auteurs. \nLes Mots en scène proposent ainsi des mises en espace permettant de pénétrer de plain-pied dans les univers des auteurs d’une manière sensible et innovante. Il s’agit de rendre les mots « visuellement palpables » dans un contexte propre à l’univers mental de la création littéraire\, au-delà d’une simple lecture. \nÀ l’issue de la représentation\, le public peut échanger avec l’auteur et lui demander une dédicace dans l’espace dédié. Ces performances prennent tout leur sens à Saint-Étienne\, ville marquée par la tradition du théâtre populaire de Jean Dasté et par la culture de l’innovation. \nLe Festival est gratuit et accessible à tous et offre son identité emblématique et unique à la Fête du Livre de Saint-Étienne.
URL:https://ensemble-sylf.fr/sylf-event/fete-du-livre/
CATEGORIES:Fête du livre,Salon
ATTACH;FMTTYPE=image/jpeg:https://ensemble-sylf.fr/wp-content/uploads/2025/09/1756884765551.jpg
END:VEVENT
END:VCALENDAR