BEGIN:VCALENDAR
VERSION:2.0
PRODID:-//SYLF - ECPv6.15.20//NONSGML v1.0//EN
CALSCALE:GREGORIAN
METHOD:PUBLISH
X-WR-CALNAME:SYLF
X-ORIGINAL-URL:https://ensemble-sylf.fr
X-WR-CALDESC:Évènements pour SYLF
REFRESH-INTERVAL;VALUE=DURATION:PT1H
X-Robots-Tag:noindex
X-PUBLISHED-TTL:PT1H
BEGIN:VTIMEZONE
TZID:Europe/Paris
BEGIN:DAYLIGHT
TZOFFSETFROM:+0100
TZOFFSETTO:+0200
TZNAME:CEST
DTSTART:20240331T010000
END:DAYLIGHT
BEGIN:STANDARD
TZOFFSETFROM:+0200
TZOFFSETTO:+0100
TZNAME:CET
DTSTART:20241027T010000
END:STANDARD
BEGIN:DAYLIGHT
TZOFFSETFROM:+0100
TZOFFSETTO:+0200
TZNAME:CEST
DTSTART:20250330T010000
END:DAYLIGHT
BEGIN:STANDARD
TZOFFSETFROM:+0200
TZOFFSETTO:+0100
TZNAME:CET
DTSTART:20251026T010000
END:STANDARD
BEGIN:DAYLIGHT
TZOFFSETFROM:+0100
TZOFFSETTO:+0200
TZNAME:CEST
DTSTART:20260329T010000
END:DAYLIGHT
BEGIN:STANDARD
TZOFFSETFROM:+0200
TZOFFSETTO:+0100
TZNAME:CET
DTSTART:20261025T010000
END:STANDARD
END:VTIMEZONE
BEGIN:VEVENT
DTSTART;TZID=Europe/Paris:20251011T190000
DTEND;TZID=Europe/Paris:20251011T200000
DTSTAMP:20260423T161905
CREATED:20250903T073446Z
LAST-MODIFIED:20250903T073446Z
UID:10000259-1760209200-1760212800@ensemble-sylf.fr
SUMMARY:FETE DU LIVRE
DESCRIPTION:Sous un cabaret littéraire\, romans\, essais\, bandes dessinées\, livres jeunesse sont transposés à la scène par des compagnies de théâtre et de danse\, en présence des auteurs. \nLes Mots en scène proposent ainsi des mises en espace permettant de pénétrer de plain-pied dans les univers des auteurs d’une manière sensible et innovante. Il s’agit de rendre les mots « visuellement palpables » dans un contexte propre à l’univers mental de la création littéraire\, au-delà d’une simple lecture. \nÀ l’issue de la représentation\, le public peut échanger avec l’auteur et lui demander une dédicace dans l’espace dédié. Ces performances prennent tout leur sens à Saint-Étienne\, ville marquée par la tradition du théâtre populaire de Jean Dasté et par la culture de l’innovation. \nLe Festival est gratuit et accessible à tous et offre son identité emblématique et unique à la Fête du Livre de Saint-Étienne.
URL:https://ensemble-sylf.fr/sylf-event/fete-du-livre/
CATEGORIES:Fête du livre,Salon
ATTACH;FMTTYPE=image/jpeg:https://ensemble-sylf.fr/wp-content/uploads/2025/09/1756884765551.jpg
END:VEVENT
BEGIN:VEVENT
DTSTART;TZID=Europe/Paris:20251018T170000
DTEND;TZID=Europe/Paris:20251018T173000
DTSTAMP:20260423T161905
CREATED:20250903T073820Z
LAST-MODIFIED:20250903T073820Z
UID:10000260-1760806800-1760808600@ensemble-sylf.fr
SUMMARY:LAYLA\,BERCEUSES SANS FRONTIERES
DESCRIPTION:Au travers des couleurs et vibrations apaisantes émises par les instruments graves que sont le violoncelle et la contrebasse\, les deux musiciens de l’ensemble SyLF feront voyager leur tout jeune public au travers des berceuses du monde entier (Rwanda\, Irlande\, Liban\, Corée…)\nD’un continent à l’autre\, les tout jeunes spectateurs pourront ressentir la musique et exprimer leurs émotions dans les bras confortables de leurs parents. Babillements\, cris…seront largement autorisés ! Ce moment musical particulier permet un véritable partage et une grande proximité avec le public (enfants/parents) dans une bulle musicale apaisante au plus proche des musiciens. \nMédiathèque de Chavanay\, évènement soutenu par le Département de la Loire dans le cadre de « Villes en villages ».
URL:https://ensemble-sylf.fr/sylf-event/laylaberceuses-sans-frontieres/
LOCATION:Chavanay
CATEGORIES:Concert
ATTACH;FMTTYPE=image/jpeg:https://ensemble-sylf.fr/wp-content/uploads/2024/07/Berceuses-scaled.jpg
END:VEVENT
BEGIN:VEVENT
DTSTART;TZID=Europe/Paris:20251018T180000
DTEND;TZID=Europe/Paris:20251018T183000
DTSTAMP:20260423T161905
CREATED:20250903T073946Z
LAST-MODIFIED:20250903T074215Z
UID:10000261-1760810400-1760812200@ensemble-sylf.fr
SUMMARY:LAYLA\, BERCEUSES SANS FRONTIERES
DESCRIPTION:Au travers des couleurs et vibrations apaisantes émises par les instruments graves que sont le violoncelle et la contrebasse\, les deux musiciens de l’ensemble SyLF feront voyager leur tout jeune public au travers des berceuses du monde entier (Rwanda\, Irlande\, Liban\, Corée…)\nD’un continent à l’autre\, les tout jeunes spectateurs pourront ressentir la musique et exprimer leurs émotions dans les bras confortables de leurs parents. Babillements\, cris…seront largement autorisés ! Ce moment musical particulier permet un véritable partage et une grande proximité avec le public (enfants/parents) dans une bulle musicale apaisante au plus proche des musiciens. \nMédiathèque de Chavanay\, évènement soutenu par le Département de la Loire dans le cadre de « Villes en villages ».
URL:https://ensemble-sylf.fr/sylf-event/layla-berceuses-sans-frontieres/
LOCATION:Chavanay
CATEGORIES:Concert
ATTACH;FMTTYPE=image/jpeg:https://ensemble-sylf.fr/wp-content/uploads/2024/07/Berceuses-scaled.jpg
END:VEVENT
BEGIN:VEVENT
DTSTART;TZID=Europe/Paris:20251020T090000
DTEND;TZID=Europe/Paris:20251025T180000
DTSTAMP:20260423T161905
CREATED:20250903T074447Z
LAST-MODIFIED:20250903T074447Z
UID:10000262-1760950800-1761415200@ensemble-sylf.fr
SUMMARY:RESIDENCE "TRAVERSEE"
DESCRIPTION:Résidence de travail en vue de notre prochain création « Traversée ». \nAvec Amélie Zekri\, Isabelle Voizeux\, Géraldine Berger\, Gilles Chabrier\, Bertrand Saugier.
URL:https://ensemble-sylf.fr/sylf-event/residence-traversee-3/
LOCATION:Centre Culturel de la Ricamarie – Salle Louis Daquin\, Avenue Maurice Thorez\, La Ricamarie\, 42150\, France
CATEGORIES:Résidence
ATTACH;FMTTYPE=image/jpeg:https://ensemble-sylf.fr/wp-content/uploads/2025/05/Traversee-scaled.jpg
END:VEVENT
END:VCALENDAR