BEGIN:VCALENDAR
VERSION:2.0
PRODID:-//SYLF - ECPv6.15.20//NONSGML v1.0//EN
CALSCALE:GREGORIAN
METHOD:PUBLISH
X-ORIGINAL-URL:https://ensemble-sylf.fr
X-WR-CALDESC:Évènements pour SYLF
REFRESH-INTERVAL;VALUE=DURATION:PT1H
X-Robots-Tag:noindex
X-PUBLISHED-TTL:PT1H
BEGIN:VTIMEZONE
TZID:Europe/Paris
BEGIN:DAYLIGHT
TZOFFSETFROM:+0100
TZOFFSETTO:+0200
TZNAME:CEST
DTSTART:20250330T010000
END:DAYLIGHT
BEGIN:STANDARD
TZOFFSETFROM:+0200
TZOFFSETTO:+0100
TZNAME:CET
DTSTART:20251026T010000
END:STANDARD
BEGIN:DAYLIGHT
TZOFFSETFROM:+0100
TZOFFSETTO:+0200
TZNAME:CEST
DTSTART:20260329T010000
END:DAYLIGHT
BEGIN:STANDARD
TZOFFSETFROM:+0200
TZOFFSETTO:+0100
TZNAME:CET
DTSTART:20261025T010000
END:STANDARD
BEGIN:DAYLIGHT
TZOFFSETFROM:+0100
TZOFFSETTO:+0200
TZNAME:CEST
DTSTART:20270328T010000
END:DAYLIGHT
BEGIN:STANDARD
TZOFFSETFROM:+0200
TZOFFSETTO:+0100
TZNAME:CET
DTSTART:20271031T010000
END:STANDARD
END:VTIMEZONE
BEGIN:VEVENT
DTSTART;TZID=Europe/Paris:20260523T090000
DTEND;TZID=Europe/Paris:20260524T180000
DTSTAMP:20260423T133742
CREATED:20260421T154320Z
LAST-MODIFIED:20260421T154320Z
UID:4181-1779526800-1779645600@ensemble-sylf.fr
SUMMARY:ENREGISTREMENT RADIO-FRANCE
DESCRIPTION:Enregistrement de transcriptions originales et inédites de compositrices françaises: Hedwige Chrétien\, Mel Bonis\, Marie Jaëll… \nAu Studio 118 de la Maison de la radio à Paris par Jocelyn Di Rollo.
URL:https://ensemble-sylf.fr/sylf-event/enregistrement-radio-france/
LOCATION:Maison de la Radio/Radio-France Paris
CATEGORIES:Enregistrement
ATTACH;FMTTYPE=image/webp:https://ensemble-sylf.fr/wp-content/uploads/2026/04/studio-118-vue-ensemble.jpg.webp
END:VEVENT
END:VCALENDAR